BEGIN:VCALENDAR
VERSION:2.0
PRODID:-//Bennwihr Echecs - ECPv6.15.20//NONSGML v1.0//EN
CALSCALE:GREGORIAN
METHOD:PUBLISH
X-WR-CALNAME:Bennwihr Echecs
X-ORIGINAL-URL:https://bennwihr-echecs.fr
X-WR-CALDESC:Évènements pour Bennwihr Echecs
REFRESH-INTERVAL;VALUE=DURATION:PT1H
X-Robots-Tag:noindex
X-PUBLISHED-TTL:PT1H
BEGIN:VTIMEZONE
TZID:Europe/Paris
BEGIN:DAYLIGHT
TZOFFSETFROM:+0100
TZOFFSETTO:+0200
TZNAME:CEST
DTSTART:20240331T010000
END:DAYLIGHT
BEGIN:STANDARD
TZOFFSETFROM:+0200
TZOFFSETTO:+0100
TZNAME:CET
DTSTART:20241027T010000
END:STANDARD
BEGIN:DAYLIGHT
TZOFFSETFROM:+0100
TZOFFSETTO:+0200
TZNAME:CEST
DTSTART:20250330T010000
END:DAYLIGHT
BEGIN:STANDARD
TZOFFSETFROM:+0200
TZOFFSETTO:+0100
TZNAME:CET
DTSTART:20251026T010000
END:STANDARD
BEGIN:DAYLIGHT
TZOFFSETFROM:+0100
TZOFFSETTO:+0200
TZNAME:CEST
DTSTART:20260329T010000
END:DAYLIGHT
BEGIN:STANDARD
TZOFFSETFROM:+0200
TZOFFSETTO:+0100
TZNAME:CET
DTSTART:20261025T010000
END:STANDARD
BEGIN:DAYLIGHT
TZOFFSETFROM:+0100
TZOFFSETTO:+0200
TZNAME:CEST
DTSTART:20270328T010000
END:DAYLIGHT
BEGIN:STANDARD
TZOFFSETFROM:+0200
TZOFFSETTO:+0100
TZNAME:CET
DTSTART:20271031T010000
END:STANDARD
END:VTIMEZONE
BEGIN:VEVENT
DTSTART;TZID=Europe/Paris:20260413T080000
DTEND;TZID=Europe/Paris:20260416T170000
DTSTAMP:20260424T145749
CREATED:20260208T101004Z
LAST-MODIFIED:20260408T132226Z
UID:2875-1776067200-1776358800@bennwihr-echecs.fr
SUMMARY:Tournoi FIDE Philidor
DESCRIPTION:
URL:https://bennwihr-echecs.fr/evenement/tournoi-fide-philidor/
ATTACH;FMTTYPE=image/png:https://bennwihr-echecs.fr/wp-content/uploads/2026/02/2026-philidor-Tournoi-Fide-Paques.png
END:VEVENT
BEGIN:VEVENT
DTSTART;TZID=Europe/Paris:20260412T080000
DTEND;TZID=Europe/Paris:20260412T170000
DTSTAMP:20260424T145749
CREATED:20260208T100624Z
LAST-MODIFIED:20260208T100838Z
UID:2872-1775980800-1776013200@bennwihr-echecs.fr
SUMMARY:Tournoi Régence Ensisheim
DESCRIPTION:1770367680-regence.jpg (1755×2480)
URL:https://bennwihr-echecs.fr/evenement/tournoi-regence-ensisheim/
ATTACH;FMTTYPE=image/webp:https://bennwihr-echecs.fr/wp-content/uploads/2026/02/Regence-2026.webp
END:VEVENT
BEGIN:VEVENT
DTSTART;TZID=Europe/Paris:20260404T080000
DTEND;TZID=Europe/Paris:20260406T170000
DTSTAMP:20260424T145749
CREATED:20260309T112417Z
LAST-MODIFIED:20260309T112417Z
UID:2898-1775289600-1775494800@bennwihr-echecs.fr
SUMMARY:23eme Open International de Paques Saint Dié des Vosges
DESCRIPTION:Inscriptions – Club d’échecs de Saint-Dié
URL:https://bennwihr-echecs.fr/evenement/23eme-open-international-de-paques-saint-die-des-vosges/
ATTACH;FMTTYPE=image/png:https://bennwihr-echecs.fr/wp-content/uploads/2026/03/SDDV-2026.png
END:VEVENT
BEGIN:VEVENT
DTSTART;TZID=Europe/Paris:20260403T190000
DTEND;TZID=Europe/Paris:20260403T233000
DTSTAMP:20260424T145749
CREATED:20260322T153547Z
LAST-MODIFIED:20260322T153547Z
UID:2902-1775242800-1775259000@bennwihr-echecs.fr
SUMMARY:Blitz de Sentheim 2026
DESCRIPTION:Blitz de Sentheim 2026 – 7 rondes
URL:https://bennwihr-echecs.fr/evenement/blitz-de-sentheim-2026/
ATTACH;FMTTYPE=application/pdf:https://bennwihr-echecs.fr/wp-content/uploads/2026/03/2026-Sentheim.pdf
END:VEVENT
BEGIN:VEVENT
DTSTART;TZID=Europe/Paris:20260322T090000
DTEND;TZID=Europe/Paris:20260322T120000
DTSTAMP:20260424T145749
CREATED:20251212T135702Z
LAST-MODIFIED:20251212T135702Z
UID:2831-1774170000-1774180800@bennwihr-echecs.fr
SUMMARY:N3J Ronde 7
DESCRIPTION:22/03/25 à Bennwihr contre Florival
URL:https://bennwihr-echecs.fr/evenement/n3j-ronde-7/
END:VEVENT
BEGIN:VEVENT
DTSTART;TZID=Europe/Paris:20260321T133000
DTEND;TZID=Europe/Paris:20260321T183000
DTSTAMP:20260424T145749
CREATED:20260309T111101Z
LAST-MODIFIED:20260309T111101Z
UID:2893-1774099800-1774117800@bennwihr-echecs.fr
SUMMARY:23ème Blitz de Hochstatt
DESCRIPTION:
URL:https://bennwihr-echecs.fr/evenement/23eme-blitz-de-hochstatt/
ATTACH;FMTTYPE=application/pdf:https://bennwihr-echecs.fr/wp-content/uploads/2026/03/Numerisation_20260309.pdf
END:VEVENT
BEGIN:VEVENT
DTSTART;TZID=Europe/Paris:20260308T090000
DTEND;TZID=Europe/Paris:20260308T120000
DTSTAMP:20260424T145749
CREATED:20251212T135622Z
LAST-MODIFIED:20251212T135622Z
UID:2829-1772960400-1772971200@bennwihr-echecs.fr
SUMMARY:N3J Ronde 6
DESCRIPTION:08/03/26 à Hochstatt contre Hochstatt
URL:https://bennwihr-echecs.fr/evenement/n3j-ronde-6/
END:VEVENT
BEGIN:VEVENT
DTSTART;TZID=Europe/Paris:20260301T080000
DTEND;TZID=Europe/Paris:20260307T170000
DTSTAMP:20260424T145749
CREATED:20251229T085854Z
LAST-MODIFIED:20251229T085854Z
UID:2839-1772352000-1772902800@bennwihr-echecs.fr
SUMMARY:21ème Open d'Ascona CH
DESCRIPTION:www.sfpelikan.org/open-ascona/
URL:https://bennwihr-echecs.fr/evenement/21eme-open-dascona-ch/
END:VEVENT
BEGIN:VEVENT
DTSTART;TZID=Europe/Paris:20260226T080000
DTEND;TZID=Europe/Paris:20260301T170000
DTSTAMP:20260424T145749
CREATED:20260208T095443Z
LAST-MODIFIED:20260208T095716Z
UID:2864-1772092800-1772384400@bennwihr-echecs.fr
SUMMARY:31ème Open de Sélestat
DESCRIPTION:Open 2026 – Inscription – Cercle d’échecs de Sélestat
URL:https://bennwihr-echecs.fr/evenement/31eme-open-de-selestat/
ATTACH;FMTTYPE=image/jpeg:https://bennwihr-echecs.fr/wp-content/uploads/2026/02/Open-Selestat-2026.jpg
END:VEVENT
BEGIN:VEVENT
DTSTART;TZID=Europe/Paris:20260221T080000
DTEND;TZID=Europe/Paris:20260222T170000
DTSTAMP:20260424T145749
CREATED:20251229T085650Z
LAST-MODIFIED:20251229T085650Z
UID:2836-1771660800-1771779600@bennwihr-echecs.fr
SUMMARY:2e Open International de Valdoie
DESCRIPTION:https://www.cercle-echecs-valdoie.fr/2e-open-de-valdoie/
URL:https://bennwihr-echecs.fr/evenement/2e-open-international-de-valdoie/
ATTACH;FMTTYPE=image/jpeg:https://bennwihr-echecs.fr/wp-content/uploads/2025/12/2025-valdoie-scaled.jpg
END:VEVENT
BEGIN:VEVENT
DTSTART;TZID=Europe/Paris:20260221T080000
DTEND;TZID=Europe/Paris:20260221T170000
DTSTAMP:20260424T145749
CREATED:20260208T100053Z
LAST-MODIFIED:20260208T102515Z
UID:2868-1771660800-1771693200@bennwihr-echecs.fr
SUMMARY:1er Open de Barr
DESCRIPTION:1er tournoi rapide de Barr – samedi 21 février 2026 – Comité des Echecs du Bas-Rhin
URL:https://bennwihr-echecs.fr/evenement/1er-open-de-barr/
ATTACH;FMTTYPE=application/pdf:https://bennwihr-echecs.fr/wp-content/uploads/2026/02/Barr-Open-2026-2.pdf
END:VEVENT
BEGIN:VEVENT
DTSTART;TZID=Europe/Paris:20260216T080000
DTEND;TZID=Europe/Paris:20260219T170000
DTSTAMP:20260424T145749
CREATED:20251212T134129Z
LAST-MODIFIED:20251212T134224Z
UID:2809-1771228800-1771520400@bennwihr-echecs.fr
SUMMARY:Championnat d'Alsace U12 U14 et U16
DESCRIPTION:Championnat d’Alsace catégories U12 à U16 à Issenheim.
URL:https://bennwihr-echecs.fr/evenement/championnat-dalsace-u12-u14-et-u16/
END:VEVENT
BEGIN:VEVENT
DTSTART;TZID=Europe/Paris:20260214T080000
DTEND;TZID=Europe/Paris:20260215T170000
DTSTAMP:20260424T145749
CREATED:20251212T133844Z
LAST-MODIFIED:20251212T133844Z
UID:2803-1771056000-1771174800@bennwihr-echecs.fr
SUMMARY:Championnat d'Alsace U08 U10
DESCRIPTION:Championnat d’Alsace catégories U08 U10 à Issenheim.
URL:https://bennwihr-echecs.fr/evenement/championnat-dalsace-u08-u10/
END:VEVENT
BEGIN:VEVENT
DTSTART;TZID=Europe/Paris:20260208T090000
DTEND;TZID=Europe/Paris:20260208T120000
DTSTAMP:20260424T145749
CREATED:20251212T135531Z
LAST-MODIFIED:20251212T135531Z
UID:2827-1770541200-1770552000@bennwihr-echecs.fr
SUMMARY:N3J Ronde 5
DESCRIPTION:08/02/26 à Bennwihr contre Munster
URL:https://bennwihr-echecs.fr/evenement/n3j-ronde-5/
END:VEVENT
BEGIN:VEVENT
DTSTART;TZID=Europe/Paris:20260128T140000
DTEND;TZID=Europe/Paris:20260131T180000
DTSTAMP:20260424T145749
CREATED:20251212T133940Z
LAST-MODIFIED:20251212T134047Z
UID:2805-1769608800-1769882400@bennwihr-echecs.fr
SUMMARY:Championnat Scolaires du Haut Rhin
DESCRIPTION:Championnat Scolaires du Haut Rhin à Guebwiller
URL:https://bennwihr-echecs.fr/evenement/championnat-dalsace-u12-u14-u16/
END:VEVENT
BEGIN:VEVENT
DTSTART;TZID=Europe/Paris:20260125T090000
DTEND;TZID=Europe/Paris:20260125T120000
DTSTAMP:20260424T145749
CREATED:20251212T135427Z
LAST-MODIFIED:20251212T135427Z
UID:2824-1769331600-1769342400@bennwihr-echecs.fr
SUMMARY:N3J Ronde 4
DESCRIPTION:25/01/26 à Eschentzwiller contre Eschentzwiller
URL:https://bennwihr-echecs.fr/evenement/n3j-ronde-4/
END:VEVENT
BEGIN:VEVENT
DTSTART;TZID=Europe/Paris:20260124T080000
DTEND;TZID=Europe/Paris:20260124T170000
DTSTAMP:20260424T145749
CREATED:20251212T134949Z
LAST-MODIFIED:20251212T134949Z
UID:2817-1769241600-1769274000@bennwihr-echecs.fr
SUMMARY:D2J ronde 4 et 5
DESCRIPTION:L’équipe D2J du CEBLAN joue à Mulhouse Phillidor \n\nRonde 4 à 14h00 : 2 parties contre Colmar 4\nRonde 5 à 15h45 : 2 parties contre Brossolette 2
URL:https://bennwihr-echecs.fr/evenement/d2j-ronde-4-et-5/
END:VEVENT
BEGIN:VEVENT
DTSTART;TZID=Europe/Paris:20260111T090000
DTEND;TZID=Europe/Paris:20260111T120000
DTSTAMP:20260424T145749
CREATED:20251212T135308Z
LAST-MODIFIED:20251212T135308Z
UID:2821-1768122000-1768132800@bennwihr-echecs.fr
SUMMARY:N3J Ronde 3
DESCRIPTION:11/01/26 à Thann contre CE Thur
URL:https://bennwihr-echecs.fr/evenement/n3j-ronde-3/
END:VEVENT
BEGIN:VEVENT
DTSTART;TZID=Europe/Paris:20260110T080000
DTEND;TZID=Europe/Paris:20260110T170000
DTSTAMP:20260424T145749
CREATED:20251212T134651Z
LAST-MODIFIED:20251212T134701Z
UID:2814-1768032000-1768064400@bennwihr-echecs.fr
SUMMARY:D2J ronde 1 - Date reportée
DESCRIPTION:L’équipe D2J du CEBLAN joue à Bennwihr \n\nRonde 1 à 14h00 : 2 parties contre Sundgau Echecs
URL:https://bennwihr-echecs.fr/evenement/d2j-ronde-1-date-reportee/
END:VEVENT
BEGIN:VEVENT
DTSTART;TZID=Europe/Paris:20260103T080000
DTEND;TZID=Europe/Paris:20260103T170000
DTSTAMP:20260424T145749
CREATED:20250902T092534Z
LAST-MODIFIED:20250902T092534Z
UID:2752-1767427200-1767459600@bennwihr-echecs.fr
SUMMARY:Rapide Fide Hindisheim Janvier 2026
DESCRIPTION:Fédération Française des Échecs
URL:https://bennwihr-echecs.fr/evenement/rapide-fide-hindisheim-janvier-2026/
END:VEVENT
BEGIN:VEVENT
DTSTART;TZID=Europe/Paris:20251227T080000
DTEND;TZID=Europe/Paris:20251229T170000
DTSTAMP:20260424T145749
CREATED:20251212T133119Z
LAST-MODIFIED:20251212T133652Z
UID:2800-1766822400-1767027600@bennwihr-echecs.fr
SUMMARY:Dixième Festival de Noël de Mundolsheim
DESCRIPTION:Festival 2025 – Flyer.docx
URL:https://bennwihr-echecs.fr/evenement/dixieme-festival-de-noel-de-mundolsheim/
ATTACH;FMTTYPE=application/pdf:https://bennwihr-echecs.fr/wp-content/uploads/2025/12/2025-Mundolsheim.pdf
END:VEVENT
BEGIN:VEVENT
DTSTART;TZID=Europe/Paris:20251220T080000
DTEND;TZID=Europe/Paris:20251222T170000
DTSTAMP:20260424T145749
CREATED:20250902T092447Z
LAST-MODIFIED:20250902T113645Z
UID:2750-1766217600-1766422800@bennwihr-echecs.fr
SUMMARY:1er Open de Hindisheim (-1700 elo)
DESCRIPTION:Fédération Française des Échecs
URL:https://bennwihr-echecs.fr/evenement/1er-open-de-hindisheim-1700-elo/
END:VEVENT
BEGIN:VEVENT
DTSTART;TZID=Europe/Paris:20251214T090000
DTEND;TZID=Europe/Paris:20251214T120000
DTSTAMP:20260424T145749
CREATED:20251212T135041Z
LAST-MODIFIED:20251212T135041Z
UID:2819-1765702800-1765713600@bennwihr-echecs.fr
SUMMARY:N3J Ronde 2
DESCRIPTION:Bennwihr contre Colmar à Bennwihr
URL:https://bennwihr-echecs.fr/evenement/n3j-ronde-2/
END:VEVENT
BEGIN:VEVENT
DTSTART;TZID=Europe/Paris:20251213T080000
DTEND;TZID=Europe/Paris:20251213T170000
DTSTAMP:20260424T145749
CREATED:20251212T134547Z
LAST-MODIFIED:20251212T134547Z
UID:2812-1765612800-1765645200@bennwihr-echecs.fr
SUMMARY:D2J ronde 2 et ronde 3
DESCRIPTION:L’équipe D2J du CEBLAN joue à Mulhouse Brossolette \n\nRonde 2 à 14h00 : 2 parties contre Philidor 2\nRonde 3 à 15h45 : 2 parties contre Brossolette
URL:https://bennwihr-echecs.fr/evenement/d2j-ronde-2-et-ronde-3/
END:VEVENT
BEGIN:VEVENT
DTSTART;TZID=Europe/Paris:20251018T080000
DTEND;TZID=Europe/Paris:20251019T170000
DTSTAMP:20260424T145749
CREATED:20250902T092359Z
LAST-MODIFIED:20250902T092359Z
UID:2748-1760774400-1760893200@bennwihr-echecs.fr
SUMMARY:Open du Club ELO-Strasbourg (Oberhausbergen) 2025
DESCRIPTION:Fédération Française des Échecs
URL:https://bennwihr-echecs.fr/evenement/open-du-club-elo-strasbourg-oberhausbergen-2025/
END:VEVENT
BEGIN:VEVENT
DTSTART;TZID=Europe/Paris:20251005T080000
DTEND;TZID=Europe/Paris:20251005T170000
DTSTAMP:20260424T145749
CREATED:20250902T092314Z
LAST-MODIFIED:20250902T092314Z
UID:2746-1759651200-1759683600@bennwihr-echecs.fr
SUMMARY:Premier Tournoi TOTEM - Schiltigheim
DESCRIPTION:Lien
URL:https://bennwihr-echecs.fr/evenement/premier-tournoi-totem-schiltigheim/
END:VEVENT
BEGIN:VEVENT
DTSTART;TZID=Europe/Paris:20250928T080000
DTEND;TZID=Europe/Paris:20250928T170000
DTSTAMP:20260424T145749
CREATED:20250902T092158Z
LAST-MODIFIED:20250902T092158Z
UID:2744-1759046400-1759078800@bennwihr-echecs.fr
SUMMARY:31e Tournoi de Bischwiller 2025
DESCRIPTION:Fédération Française des Échecs
URL:https://bennwihr-echecs.fr/evenement/31e-tournoi-de-bischwiller-2025/
END:VEVENT
BEGIN:VEVENT
DTSTART;TZID=Europe/Paris:20250921T080000
DTEND;TZID=Europe/Paris:20250921T170000
DTSTAMP:20260424T145749
CREATED:20250619T101643Z
LAST-MODIFIED:20250619T101643Z
UID:2718-1758441600-1758474000@bennwihr-echecs.fr
SUMMARY:Tournoi de le rentrée Erstein
DESCRIPTION:Fédération Française des Échecs
URL:https://bennwihr-echecs.fr/evenement/tournoi-de-le-rentree-erstein/
END:VEVENT
BEGIN:VEVENT
DTSTART;TZID=Europe/Paris:20250919T080000
DTEND;TZID=Europe/Paris:20250921T170000
DTSTAMP:20260424T145749
CREATED:20250902T091337Z
LAST-MODIFIED:20250902T091348Z
UID:2741-1758268800-1758474000@bennwihr-echecs.fr
SUMMARY:Tournoi FIDE de rentrée du Philidor 2025 - Mulhouse
DESCRIPTION:Tournoi Fide septembre 2025 \nhttps://www.echecs.asso.fr/Tournois/Id/68308/68308.pdf
URL:https://bennwihr-echecs.fr/evenement/tournoi-fide-de-rentree-du-philidor-2025-mulhouse/
END:VEVENT
BEGIN:VEVENT
DTSTART;TZID=Europe/Paris:20250914T080000
DTEND;TZID=Europe/Paris:20250914T170000
DTSTAMP:20260424T145749
CREATED:20250902T091123Z
LAST-MODIFIED:20250902T091123Z
UID:2739-1757836800-1757869200@bennwihr-echecs.fr
SUMMARY:Mémorial Bernadette Riff 2025 - BISEL
DESCRIPTION:Lien \n  \n 
URL:https://bennwihr-echecs.fr/evenement/memorial-bernadette-riff-2025-bisel/
END:VEVENT
END:VCALENDAR